BEGIN:VCALENDAR
VERSION:2.0
PRODID:-//Plone.org//NONSGML plone.app.event//EN
X-WR-TIMEZONE:US/Pacific
BEGIN:VEVENT
SUMMARY:TAC MAC Scramble - Panorama Point
DTSTART;VALUE=DATE:20241123
DTEND;VALUE=DATE:20241124
DTSTAMP;VALUE=DATE-TIME:20260420T114151Z
UID:26f21c64c3754f768c0e77f15188f006
CATEGORIES:Youth
DESCRIPTION:Scrambling outing for MAC Tacoma students. Skiers are welcome 
 to ski if conditions are good for it
LOCATION:Panorama Point
URL:https://www.mountaineers.org/locations-lodges/tacoma-branch/committees
 /tacoma-youth-outreach-committee/course-templates/mountaineers-adventure-c
 lub-tacoma-tacoma/activities/tac-mac-scramble-panorama-point
END:VEVENT
END:VCALENDAR
