BEGIN:VCALENDAR
VERSION:2.0
PRODID:-//Plone.org//NONSGML plone.app.event//EN
X-WR-TIMEZONE:US/Pacific
BEGIN:VEVENT
SUMMARY:TAC MAC Scramble - Oval\, Star & Courtney Peaks
DTSTART;VALUE=DATE:20250818
DTEND;VALUE=DATE:20250819
DTSTAMP;VALUE=DATE-TIME:20260420T114805Z
UID:a44c9ed5957346cc9405a0d4fc4915e1
CATEGORIES:Scrambling,Youth
DESCRIPTION:Scrambling outing for MAC Tacoma students
LOCATION:Oval\, Star & Courtney Peaks
URL:https://www.mountaineers.org/locations-lodges/tacoma-branch/committees
 /tacoma-youth-outreach-committee/course-templates/mountaineers-adventure-c
 lub-tacoma-tacoma/activities/tac-mac-scramble-oval-star-courtney-peaks
END:VEVENT
END:VCALENDAR
