BEGIN:VCALENDAR
VERSION:2.0
PRODID:-//Plone.org//NONSGML plone.app.event//EN
X-WR-TIMEZONE:US/Pacific
BEGIN:VEVENT
SUMMARY:TAC MAC Scramble - Mount Washington (Olympics)
DTSTART;VALUE=DATE:20250413
DTEND;VALUE=DATE:20250414
DTSTAMP;VALUE=DATE-TIME:20260420T114224Z
UID:04adccb17fda45418ed6cf45ac79a248
CATEGORIES:Scrambling
DESCRIPTION:Snow scramble and possible backcountry ski
LOCATION:Mount Washington (Olympics)
URL:https://www.mountaineers.org/locations-lodges/tacoma-branch/committees
 /tacoma-youth-outreach-committee/course-templates/mountaineers-adventure-c
 lub-tacoma-tacoma/activities/tac-mac-scramble-mount-washington-olympics
END:VEVENT
END:VCALENDAR
