BEGIN:VCALENDAR
VERSION:2.0
PRODID:-//Plone.org//NONSGML plone.app.event//EN
X-WR-TIMEZONE:US/Pacific
BEGIN:VEVENT
SUMMARY:TAC MAC Scramble - Mount St. Helens/Worm Flows
DTSTART;VALUE=DATE:20260329
DTEND;VALUE=DATE:20260330
DTSTAMP;VALUE=DATE-TIME:20260420T114151Z
UID:289061c1f4014e61b141fd11188df4d7
CATEGORIES:Scrambling
DESCRIPTION:Scrambling outing for MAC Tacoma students
LOCATION:Mount St. Helens/Worm Flows
URL:https://www.mountaineers.org/locations-lodges/tacoma-branch/committees
 /tacoma-youth-outreach-committee/course-templates/mountaineers-adventure-c
 lub-tacoma-tacoma/activities/tac-mac-scramble-mount-st-helens-worm-flows-1
END:VEVENT
END:VCALENDAR
