BEGIN:VCALENDAR
VERSION:2.0
PRODID:-//Plone.org//NONSGML plone.app.event//EN
X-WR-TIMEZONE:US/Pacific
BEGIN:VEVENT
SUMMARY:TAC MAC Scramble - Mount Maude
DTSTART;VALUE=DATE:20230808
DTEND;VALUE=DATE:20230809
DTSTAMP;VALUE=DATE-TIME:20260420T114255Z
UID:cfe657c177954a0a9413294ea2167881
CATEGORIES:Scrambling
DESCRIPTION:Scrambling outing for MAC Tacoma students
LOCATION:Mount Maude
URL:https://www.mountaineers.org/locations-lodges/tacoma-branch/committees
 /tacoma-youth-outreach-committee/course-templates/mountaineers-adventure-c
 lub-tacoma-tacoma/activities/tac-mac-scramble-mount-maude
END:VEVENT
END:VCALENDAR
