BEGIN:VCALENDAR
VERSION:2.0
PRODID:-//Plone.org//NONSGML plone.app.event//EN
X-WR-TIMEZONE:US/Pacific
BEGIN:VEVENT
SUMMARY:TAC MAC Scramble - Iron & Teanaway Peaks
DTSTART;VALUE=DATE:20240505
DTEND;VALUE=DATE:20240506
DTSTAMP;VALUE=DATE-TIME:20260420T114317Z
UID:1579b0b4b97946a0a161e5f6dcd3c750
CATEGORIES:Scrambling
DESCRIPTION:Scrambling outing for MAC Tacoma students
LOCATION:Iron & Teanaway Peaks
URL:https://www.mountaineers.org/locations-lodges/tacoma-branch/committees
 /tacoma-youth-outreach-committee/course-templates/mountaineers-adventure-c
 lub-tacoma-tacoma/activities/tac-mac-scramble-iron-teanaway-peaks
END:VEVENT
END:VCALENDAR
