BEGIN:VCALENDAR
VERSION:2.0
PRODID:-//Plone.org//NONSGML plone.app.event//EN
X-WR-TIMEZONE:US/Pacific
BEGIN:VEVENT
SUMMARY:TAC MAC Scramble - Fay Peak\, Hessong Rock & Mount Pleasant
DTSTART;VALUE=DATE:20231015
DTEND;VALUE=DATE:20231016
DTSTAMP;VALUE=DATE-TIME:20260420T114644Z
UID:d37e94c4ff5a45cf85c254e67aa5094c
CATEGORIES:Scrambling
DESCRIPTION:Scrambling outing for MAC Tacoma students. We will attempt to 
 get all three peaks\, maybe also First Mother if we're making good time.
LOCATION:Fay Peak\, Hessong Rock & Mount Pleasant
URL:https://www.mountaineers.org/locations-lodges/tacoma-branch/committees
 /tacoma-youth-outreach-committee/course-templates/mountaineers-adventure-c
 lub-tacoma-tacoma/activities/tac-mac-scramble-fay-peak-hessong-rock-mount-
 pleasant
END:VEVENT
END:VCALENDAR
