BEGIN:VCALENDAR
VERSION:2.0
PRODID:-//Plone.org//NONSGML plone.app.event//EN
X-WR-TIMEZONE:US/Pacific
BEGIN:VEVENT
SUMMARY:TAC MAC Scramble - Del Campo & Gothic Peaks
DTSTART;VALUE=DATE:20240813
DTEND;VALUE=DATE:20240814
DTSTAMP;VALUE=DATE-TIME:20260420T114222Z
UID:f1fb6353adcc4807b4a73336b15967e7
CATEGORIES:Youth
DESCRIPTION:Audrey's leadership trip.
LOCATION:Del Campo & Gothic Peaks
URL:https://www.mountaineers.org/locations-lodges/tacoma-branch/committees
 /tacoma-youth-outreach-committee/course-templates/mountaineers-adventure-c
 lub-tacoma-tacoma/activities/tac-mac-scramble-del-campo-gothic-peaks
END:VEVENT
END:VCALENDAR
