BEGIN:VCALENDAR
VERSION:2.0
PRODID:-//Plone.org//NONSGML plone.app.event//EN
X-WR-TIMEZONE:US/Pacific
BEGIN:VEVENT
SUMMARY:TAC MAC Scramble - Bean Peak
DTSTART;VALUE=DATE:20231021
DTEND;VALUE=DATE:20231022
DTSTAMP;VALUE=DATE-TIME:20260420T114225Z
UID:2507fc2efe754095ada51321331efa48
CATEGORIES:Scrambling
DESCRIPTION:Scrambling & backpacking outing for MAC Tacoma students
LOCATION:Bean Peak
URL:https://www.mountaineers.org/locations-lodges/tacoma-branch/committees
 /tacoma-youth-outreach-committee/course-templates/mountaineers-adventure-c
 lub-tacoma-tacoma/activities/tac-mac-scramble-bean-peak
END:VEVENT
END:VCALENDAR
