BEGIN:VCALENDAR
VERSION:2.0
PRODID:-//Plone.org//NONSGML plone.app.event//EN
X-WR-TIMEZONE:US/Pacific
BEGIN:VEVENT
SUMMARY:TAC MAC Climbing/Camping Trip - Squamish
DTSTART;VALUE=DATE:20230708
DTEND;VALUE=DATE:20230709
DTSTAMP;VALUE=DATE-TIME:20260420T114151Z
UID:7ca675db20f44e8c97a0d403cea40d06
CATEGORIES:Youth,Climbing
DESCRIPTION:Week-long summer trip! Squamish is a world-class destination f
 or rock climbing\, so that will probably be the main focus of the trip\, b
 ut we'll also include day hikes\, some mountain biking\, and possibly some
  water sports and a backpacking trip.
LOCATION:Squamish
URL:https://www.mountaineers.org/locations-lodges/tacoma-branch/committees
 /tacoma-youth-outreach-committee/course-templates/mountaineers-adventure-c
 lub-tacoma-tacoma/activities/tac-mac-climbing-camping-trip-squamish
END:VEVENT
END:VCALENDAR
