BEGIN:VCALENDAR
VERSION:2.0
PRODID:-//Plone.org//NONSGML plone.app.event//EN
X-WR-TIMEZONE:US/Pacific
BEGIN:VEVENT
SUMMARY:TAC MAC Climbing/Camping Trip - Smith Rock
DTSTART;VALUE=DATE:20250713
DTEND;VALUE=DATE:20250714
DTSTAMP;VALUE=DATE-TIME:20260420T114224Z
UID:c032d7e9eb8b47749bcd811f396aecf9
CATEGORIES:Climbing
DESCRIPTION:Weeklong Trip. We will plan to camp outside Sisters\, and spen
 d our time at Smith Rock\, the OR Cascades\, and the town of Bend.
LOCATION:Smith Rock
URL:https://www.mountaineers.org/locations-lodges/tacoma-branch/committees
 /tacoma-youth-outreach-committee/course-templates/mountaineers-adventure-c
 lub-tacoma-tacoma/activities/tac-mac-climbing-camping-trip-smith-rock-1
END:VEVENT
END:VCALENDAR
