BEGIN:VCALENDAR
VERSION:2.0
PRODID:-//Plone.org//NONSGML plone.app.event//EN
X-WR-TIMEZONE:US/Pacific
BEGIN:VEVENT
SUMMARY:TAC MAC Climbing/Camping Trip - Leavenworth
DTSTART;VALUE=DATE:20250626
DTEND;VALUE=DATE:20250627
DTSTAMP;VALUE=DATE-TIME:20260420T114254Z
UID:f1cc1e29fe864a75bf90176a145d6eb5
CATEGORIES:Climbing
DESCRIPTION:Practice our climbing and rope skills\, with car camping
LOCATION:Leavenworth
URL:https://www.mountaineers.org/locations-lodges/tacoma-branch/committees
 /tacoma-youth-outreach-committee/course-templates/mountaineers-adventure-c
 lub-tacoma-tacoma/activities/tac-mac-climbing-camping-trip-leavenworth-7
END:VEVENT
END:VCALENDAR
