BEGIN:VCALENDAR
VERSION:2.0
PRODID:-//Plone.org//NONSGML plone.app.event//EN
X-WR-TIMEZONE:US/Pacific
BEGIN:VEVENT
SUMMARY:TAC MAC Climbing/Camping Trip - Leavenworth
DTSTART;VALUE=DATE:20240627
DTEND;VALUE=DATE:20240628
DTSTAMP;VALUE=DATE-TIME:20260420T114253Z
UID:0f0c597fcc644afebfc9bb6c299278a8
CATEGORIES:Youth
DESCRIPTION:Practice our climbing and rope skills\, with car camping
LOCATION:Leavenworth
URL:https://www.mountaineers.org/locations-lodges/tacoma-branch/committees
 /tacoma-youth-outreach-committee/course-templates/mountaineers-adventure-c
 lub-tacoma-tacoma/activities/tac-mac-climbing-camping-trip-leavenworth-6
END:VEVENT
END:VCALENDAR
