BEGIN:VCALENDAR
VERSION:2.0
PRODID:-//Plone.org//NONSGML plone.app.event//EN
X-WR-TIMEZONE:US/Pacific
BEGIN:VEVENT
SUMMARY:TAC MAC Climbing/Camping Trip - Leavenworth
DTSTART;VALUE=DATE:20230506
DTEND;VALUE=DATE:20230507
DTSTAMP;VALUE=DATE-TIME:20260420T114254Z
UID:bb7fd2b1d1ee4dfb8ef9f621b7ff27ab
CATEGORIES:Youth
DESCRIPTION:Multi-pitch and trad leading weekend\, with car camping
LOCATION:Leavenworth
URL:https://www.mountaineers.org/locations-lodges/tacoma-branch/committees
 /tacoma-youth-outreach-committee/course-templates/mountaineers-adventure-c
 lub-tacoma-tacoma/activities/tac-mac-climbing-camping-trip-leavenworth-5
END:VEVENT
END:VCALENDAR
