BEGIN:VCALENDAR
VERSION:2.0
PRODID:-//Plone.org//NONSGML plone.app.event//EN
X-WR-TIMEZONE:US/Pacific
BEGIN:VEVENT
SUMMARY:TAC MAC Climbing/Camping Trip - Leavenworth
DTSTART;VALUE=DATE:20220623
DTEND;VALUE=DATE:20220624
DTSTAMP;VALUE=DATE-TIME:20260420T114255Z
UID:6a1c13116fca42bab96261c901a0bf86
CATEGORIES:Climbing,Youth
DESCRIPTION:Leavenworth climbing weekend with emphasis on multi-pitch clim
 bs
LOCATION:Leavenworth
URL:https://www.mountaineers.org/locations-lodges/tacoma-branch/committees
 /tacoma-youth-outreach-committee/course-templates/mountaineers-adventure-c
 lub-tacoma-tacoma/activities/tac-mac-climbing-camping-trip-leavenworth-4
END:VEVENT
END:VCALENDAR
