BEGIN:VCALENDAR
VERSION:2.0
PRODID:-//Plone.org//NONSGML plone.app.event//EN
X-WR-TIMEZONE:US/Pacific
BEGIN:VEVENT
SUMMARY:TAC MAC Climbing/Camping Trip - Klipchuck Campground
DTSTART;VALUE=DATE:20220701
DTEND;VALUE=DATE:20220702
DTSTAMP;VALUE=DATE-TIME:20260420T114316Z
UID:7d70acdb80c6456c96aef09db3325f3d
CATEGORIES:Youth
DESCRIPTION:Practice our climbing and rope skills\, with car camping
LOCATION:Klipchuck Campground
URL:https://www.mountaineers.org/locations-lodges/tacoma-branch/committees
 /tacoma-youth-outreach-committee/course-templates/mountaineers-adventure-c
 lub-tacoma-tacoma/activities/tac-mac-climbing-camping-trip-klipchuck-campg
 round
END:VEVENT
END:VCALENDAR
