BEGIN:VCALENDAR
VERSION:2.0
PRODID:-//Plone.org//NONSGML plone.app.event//EN
X-WR-TIMEZONE:US/Pacific
BEGIN:VEVENT
SUMMARY:TAC MAC Climbing/Camping Trip - Klipchuck Campground
DTSTART;VALUE=DATE:20240707
DTEND;VALUE=DATE:20240708
DTSTAMP;VALUE=DATE-TIME:20260420T114316Z
UID:f13c86da9175443487662005bf1fed0c
CATEGORIES:Youth
DESCRIPTION:Big summer trip! Cragging in Mazama\, alpine climbs at WA Pass
 \, multi-pitches on Goat Wall\, hiking\, scrambling\, etc.
LOCATION:Klipchuck Campground
URL:https://www.mountaineers.org/locations-lodges/tacoma-branch/committees
 /tacoma-youth-outreach-committee/course-templates/mountaineers-adventure-c
 lub-tacoma-tacoma/activities/tac-mac-climbing-camping-trip-klipchuck-campg
 round-1
END:VEVENT
END:VCALENDAR
