BEGIN:VCALENDAR
VERSION:2.0
PRODID:-//Plone.org//NONSGML plone.app.event//EN
X-WR-TIMEZONE:US/Pacific
BEGIN:VEVENT
SUMMARY:TAC MAC Climbing/Camping Trip - Edgeworks Climbing + Fitness\, Tac
 oma
DTSTART;VALUE=DATE:20220410
DTEND;VALUE=DATE:20220411
DTSTAMP;VALUE=DATE-TIME:20260420T114735Z
UID:580626c223c34e27a72e28c3576b2761
CATEGORIES:Youth,Climbing
DESCRIPTION:Climbing Day
LOCATION:Edgeworks Climbing + Fitness\, Tacoma
URL:https://www.mountaineers.org/locations-lodges/tacoma-branch/committees
 /tacoma-youth-outreach-committee/course-templates/mountaineers-adventure-c
 lub-tacoma-tacoma/activities/tac-mac-climbing-camping-trip-edgeworks-climb
 ing-fitness-tacoma
END:VEVENT
END:VCALENDAR
