BEGIN:VCALENDAR
VERSION:2.0
PRODID:-//Plone.org//NONSGML plone.app.event//EN
X-WR-TIMEZONE:US/Pacific
BEGIN:VEVENT
SUMMARY:TAC MAC Alpine Climb - The Tooth/South Face
DTSTART;VALUE=DATE:20210818
DTEND;VALUE=DATE:20210819
DTSTAMP;VALUE=DATE-TIME:20260420T114323Z
UID:54a85fc9f0d34e70aff28da063dc1746
CATEGORIES:Youth
DESCRIPTION:Alpine climb for Tacoma MAC Students
LOCATION:The Tooth/South Face
URL:https://www.mountaineers.org/locations-lodges/tacoma-branch/committees
 /tacoma-youth-outreach-committee/course-templates/mountaineers-adventure-c
 lub-tacoma-tacoma/activities/tac-mac-alpine-climb-the-tooth-south-face-2
END:VEVENT
END:VCALENDAR
