BEGIN:VCALENDAR
VERSION:2.0
PRODID:-//Plone.org//NONSGML plone.app.event//EN
X-WR-TIMEZONE:US/Pacific
BEGIN:VEVENT
SUMMARY:TAC MAC Alpine Climb - South Early Winter Spire/South Arête
DTSTART;VALUE=DATE:20220705
DTEND;VALUE=DATE:20220706
DTSTAMP;VALUE=DATE-TIME:20260420T114810Z
UID:1ce6358eb6f34d3c98140851304a9568
CATEGORIES:Youth
DESCRIPTION:Alpine climb for Tacoma MAC Students
LOCATION:South Early Winter Spire/South Arête
URL:https://www.mountaineers.org/locations-lodges/tacoma-branch/committees
 /tacoma-youth-outreach-committee/course-templates/mountaineers-adventure-c
 lub-tacoma-tacoma/activities/tac-mac-alpine-climb-south-early-winter-spire
 -south-arete-1
END:VEVENT
END:VCALENDAR
