BEGIN:VCALENDAR
VERSION:2.0
PRODID:-//Plone.org//NONSGML plone.app.event//EN
X-WR-TIMEZONE:US/Pacific
BEGIN:VEVENT
SUMMARY:TAC MAC Alpine Climb - Slippery Slab Tower/Northeast Face
DTSTART;VALUE=DATE:20230821
DTEND;VALUE=DATE:20230822
DTSTAMP;VALUE=DATE-TIME:20260420T095749Z
UID:e688c730c288442ebdbbff93ec332721
CATEGORIES:Climbing,Youth
DESCRIPTION:Alpine climb for Tacoma MAC Students
LOCATION:Slippery Slab Tower/Northeast Face
URL:https://www.mountaineers.org/locations-lodges/tacoma-branch/committees
 /tacoma-youth-outreach-committee/course-templates/mountaineers-adventure-c
 lub-tacoma-tacoma/activities/tac-mac-alpine-climb-slippery-slab-tower-nort
 heast-face-1
END:VEVENT
END:VCALENDAR
