BEGIN:VCALENDAR
VERSION:2.0
PRODID:-//Plone.org//NONSGML plone.app.event//EN
X-WR-TIMEZONE:US/Pacific
BEGIN:VEVENT
SUMMARY:TAC MAC Alpine Climb - Silver Star Mountain/Silver Star Glacier
DTSTART;VALUE=DATE:20220707
DTEND;VALUE=DATE:20220708
DTSTAMP;VALUE=DATE-TIME:20260420T095647Z
UID:b2dec6a231ff4075b4956994750b3e88
CATEGORIES:Youth
DESCRIPTION:Alpine climb for Tacoma MAC Students
LOCATION:Silver Star Mountain/Silver Star Glacier
URL:https://www.mountaineers.org/locations-lodges/tacoma-branch/committees
 /tacoma-youth-outreach-committee/course-templates/mountaineers-adventure-c
 lub-tacoma-tacoma/activities/tac-mac-alpine-climb-silver-star-mountain-sil
 ver-star-glacier
END:VEVENT
END:VCALENDAR
