BEGIN:VCALENDAR
VERSION:2.0
PRODID:-//Plone.org//NONSGML plone.app.event//EN
X-WR-TIMEZONE:US/Pacific
BEGIN:VEVENT
SUMMARY:TAC MAC Alpine Climb - Sahale Peak/Quien Sabe Glacier
DTSTART;VALUE=DATE:20250707
DTEND;VALUE=DATE:20250708
DTSTAMP;VALUE=DATE-TIME:20260420T095749Z
UID:e7359b720cba4de7a953f134c499172d
CATEGORIES:Youth
DESCRIPTION:Karter's leadership climb. This climb will be very strenuous a
 nd will include technical ice and steep snow climbing. Participants must h
 ave ice climbing experience\, with preference to those who can lead on ice
 .
LOCATION:Sahale Peak/Quien Sabe Glacier
URL:https://www.mountaineers.org/locations-lodges/tacoma-branch/committees
 /tacoma-youth-outreach-committee/course-templates/mountaineers-adventure-c
 lub-tacoma-tacoma/activities/tac-mac-alpine-climb-sahale-peak-quien-sabe-g
 lacier
END:VEVENT
END:VCALENDAR
