BEGIN:VCALENDAR
VERSION:2.0
PRODID:-//Plone.org//NONSGML plone.app.event//EN
X-WR-TIMEZONE:US/Pacific
BEGIN:VEVENT
SUMMARY:TAC MAC Alpine Climb - Prusik Peak/West Ridge
DTSTART;VALUE=DATE:20210816
DTEND;VALUE=DATE:20210817
DTSTAMP;VALUE=DATE-TIME:20260420T095811Z
UID:2cc55a39790043ed8a8c0f962dd87ebc
CATEGORIES:Youth
DESCRIPTION:Alpine climb for Tacoma MAC Students. Contingent on getting pe
 rmits obviously.
LOCATION:Prusik Peak/West Ridge
URL:https://www.mountaineers.org/locations-lodges/tacoma-branch/committees
 /tacoma-youth-outreach-committee/course-templates/mountaineers-adventure-c
 lub-tacoma-tacoma/activities/tac-mac-alpine-climb-prusik-peak-west-ridge-1
END:VEVENT
END:VCALENDAR
