BEGIN:VCALENDAR
VERSION:2.0
PRODID:-//Plone.org//NONSGML plone.app.event//EN
X-WR-TIMEZONE:US/Pacific
BEGIN:VEVENT
SUMMARY:TAC MAC Alpine Climb - Mount Shuksan/Sulphide Glacier
DTSTART;VALUE=DATE:20230610
DTEND;VALUE=DATE:20230611
DTSTAMP;VALUE=DATE-TIME:20260420T095811Z
UID:297bff99bb0c4f6c831d3a3879e2fec8
CATEGORIES:Youth
DESCRIPTION:Alpine climb for Tacoma MAC Students
LOCATION:Mount Shuksan/Sulphide Glacier
URL:https://www.mountaineers.org/locations-lodges/tacoma-branch/committees
 /tacoma-youth-outreach-committee/course-templates/mountaineers-adventure-c
 lub-tacoma-tacoma/activities/tac-mac-alpine-climb-mount-shuksan-sulphide-g
 lacier
END:VEVENT
END:VCALENDAR
