BEGIN:VCALENDAR
VERSION:2.0
PRODID:-//Plone.org//NONSGML plone.app.event//EN
X-WR-TIMEZONE:US/Pacific
BEGIN:VEVENT
SUMMARY:TAC MAC Alpine Climb - Mount Olympus/Blue Glacier
DTSTART;VALUE=DATE:20240727
DTEND;VALUE=DATE:20240728
DTSTAMP;VALUE=DATE-TIME:20260420T095718Z
UID:48c2a14fb2df4091915e0bc34b1ada06
CATEGORIES:Youth
DESCRIPTION:Luna's leadership climb. Participants should be ready for thre
 e long days in the mountains!
LOCATION:Mount Olympus/Blue Glacier
URL:https://www.mountaineers.org/locations-lodges/tacoma-branch/committees
 /tacoma-youth-outreach-committee/course-templates/mountaineers-adventure-c
 lub-tacoma-tacoma/activities/tac-mac-alpine-climb-mount-olympus-blue-glaci
 er
END:VEVENT
END:VCALENDAR
