BEGIN:VCALENDAR
VERSION:2.0
PRODID:-//Plone.org//NONSGML plone.app.event//EN
X-WR-TIMEZONE:US/Pacific
BEGIN:VEVENT
SUMMARY:TAC MAC Alpine Climb - Mount Baker/Coleman Glacier
DTSTART;VALUE=DATE:20230727
DTEND;VALUE=DATE:20230728
DTSTAMP;VALUE=DATE-TIME:20260420T095647Z
UID:dc34a99fdf7d49f9a56182f4ecaae9ad
CATEGORIES:Youth,Climbing
DESCRIPTION:Glacier climb. This will be Georgia's leadership climb.
LOCATION:Mount Baker/Coleman Glacier
URL:https://www.mountaineers.org/locations-lodges/tacoma-branch/committees
 /tacoma-youth-outreach-committee/course-templates/mountaineers-adventure-c
 lub-tacoma-tacoma/activities/tac-mac-alpine-climb-mount-baker-coleman-glac
 ier-1
END:VEVENT
END:VCALENDAR
