BEGIN:VCALENDAR
VERSION:2.0
PRODID:-//Plone.org//NONSGML plone.app.event//EN
X-WR-TIMEZONE:US/Pacific
BEGIN:VEVENT
SUMMARY:TAC MAC Alpine Climb - Mount Adams/South Spur
DTSTART;VALUE=DATE:20250620
DTEND;VALUE=DATE:20250621
DTSTAMP;VALUE=DATE-TIME:20260420T095811Z
UID:be88fd60cd714a96a4d93102683c0bf2
CATEGORIES:Climbing
DESCRIPTION:Alpine climb for Tacoma MAC Students
LOCATION:Mount Adams/South Spur
URL:https://www.mountaineers.org/locations-lodges/tacoma-branch/committees
 /tacoma-youth-outreach-committee/course-templates/mountaineers-adventure-c
 lub-tacoma-tacoma/activities/tac-mac-alpine-climb-mount-adams-south-spur
END:VEVENT
END:VCALENDAR
