BEGIN:VCALENDAR
VERSION:2.0
PRODID:-//Plone.org//NONSGML plone.app.event//EN
X-WR-TIMEZONE:US/Pacific
BEGIN:VEVENT
SUMMARY:TAC MAC Alpine Climb - Mount Adams/South Spur
DTSTART;VALUE=DATE:20260412
DTEND;VALUE=DATE:20260413
DTSTAMP;VALUE=DATE-TIME:20260420T095042Z
UID:0671dc3a83ad4c6eb052941fef9c0441
CATEGORIES:Climbing
DESCRIPTION:Participants must be in excellent conditioning. Ireland's lead
 ership climb.
LOCATION:Mount Adams/South Spur
URL:https://www.mountaineers.org/locations-lodges/tacoma-branch/committees
 /tacoma-youth-outreach-committee/course-templates/mountaineers-adventure-c
 lub-tacoma-tacoma/activities/tac-mac-alpine-climb-mount-adams-south-spur-1
END:VEVENT
END:VCALENDAR
