BEGIN:VCALENDAR
VERSION:2.0
PRODID:-//Plone.org//NONSGML plone.app.event//EN
X-WR-TIMEZONE:US/Pacific
BEGIN:VEVENT
SUMMARY:TAC MAC Alpine Climb - Liberty Bell/Southwest Face
DTSTART;VALUE=DATE:20230623
DTEND;VALUE=DATE:20230624
DTSTAMP;VALUE=DATE-TIME:20260420T095811Z
UID:c6a2e744aa764c91bf48a2e50f63c746
CATEGORIES:Youth,Climbing
DESCRIPTION:This will be a small\, select climb. Sarah will choose partici
 pants. Leadership climb for Luna.
LOCATION:Liberty Bell/Southwest Face
URL:https://www.mountaineers.org/locations-lodges/tacoma-branch/committees
 /tacoma-youth-outreach-committee/course-templates/mountaineers-adventure-c
 lub-tacoma-tacoma/activities/tac-mac-alpine-climb-liberty-bell-southwest-f
 ace-2
END:VEVENT
END:VCALENDAR
