BEGIN:VCALENDAR
VERSION:2.0
PRODID:-//Plone.org//NONSGML plone.app.event//EN
X-WR-TIMEZONE:US/Pacific
BEGIN:VEVENT
SUMMARY:TAC MAC Alpine Climb - Lane Peak/Zipper
DTSTART;VALUE=DATE:20240225
DTEND;VALUE=DATE:20240226
DTSTAMP;VALUE=DATE-TIME:20260420T095846Z
UID:380991ab92174f93bea2fbec6bd62854
CATEGORIES:Climbing
DESCRIPTION:Alpine climb for small group of TAC MAC students
LOCATION:Lane Peak/Zipper
URL:https://www.mountaineers.org/locations-lodges/tacoma-branch/committees
 /tacoma-youth-outreach-committee/course-templates/mountaineers-adventure-c
 lub-tacoma-tacoma/activities/tac-mac-alpine-climb-lane-peak-zipper
END:VEVENT
END:VCALENDAR
