BEGIN:VCALENDAR
VERSION:2.0
PRODID:-//Plone.org//NONSGML plone.app.event//EN
X-WR-TIMEZONE:US/Pacific
BEGIN:VEVENT
SUMMARY:TAC MAC Alpine Climb - Lane Peak: Zipper & Lovers Lane
DTSTART;VALUE=DATE:20250103
DTEND;VALUE=DATE:20250104
DTSTAMP;VALUE=DATE-TIME:20260420T100001Z
UID:838b0a7ad580492ea3743818b0b1b2e6
CATEGORIES:Youth
DESCRIPTION:Alpine climb for Tacoma MAC
LOCATION:Lane Peak: Zipper & Lovers Lane
URL:https://www.mountaineers.org/locations-lodges/tacoma-branch/committees
 /tacoma-youth-outreach-committee/course-templates/mountaineers-adventure-c
 lub-tacoma-tacoma/activities/tac-mac-alpine-climb-lane-peak-zipper-lovers-
 lane
END:VEVENT
END:VCALENDAR
