BEGIN:VCALENDAR
VERSION:2.0
PRODID:-//Plone.org//NONSGML plone.app.event//EN
X-WR-TIMEZONE:US/Pacific
BEGIN:VEVENT
SUMMARY:TAC MAC Alpine Climb - Goode Mountain/Northeast Buttress
DTSTART;VALUE=DATE:20250811
DTEND;VALUE=DATE:20250812
DTSTAMP;VALUE=DATE-TIME:20260420T114321Z
UID:ddc3bda516bb4e89aa5a2a5a211c7594
CATEGORIES:Youth
DESCRIPTION:This will be an extremely strenuous climb and only open to a h
 andful of very experienced members.
LOCATION:Goode Mountain/Northeast Buttress
URL:https://www.mountaineers.org/locations-lodges/tacoma-branch/committees
 /tacoma-youth-outreach-committee/course-templates/mountaineers-adventure-c
 lub-tacoma-tacoma/activities/tac-mac-alpine-climb-goode-mountain-northeast
 -buttress
END:VEVENT
END:VCALENDAR
