BEGIN:VCALENDAR
VERSION:2.0
PRODID:-//Plone.org//NONSGML plone.app.event//EN
X-WR-TIMEZONE:US/Pacific
BEGIN:VEVENT
SUMMARY:TAC MAC Alpine Climb - Glacier Peak/Disappointment Peak Cleaver
DTSTART;VALUE=DATE:20250823
DTEND;VALUE=DATE:20250824
DTSTAMP;VALUE=DATE-TIME:20260420T095811Z
UID:978d02aec1884c0dbdaac3257edc13d0
CATEGORIES:Climbing
DESCRIPTION:Alpine climb for Tacoma MAC Students
LOCATION:Glacier Peak/Disappointment Peak Cleaver
URL:https://www.mountaineers.org/locations-lodges/tacoma-branch/committees
 /tacoma-youth-outreach-committee/course-templates/mountaineers-adventure-c
 lub-tacoma-tacoma/activities/tac-mac-alpine-climb-glacier-peak-disappointm
 ent-peak-cleaver-1
END:VEVENT
END:VCALENDAR
