BEGIN:VCALENDAR
VERSION:2.0
PRODID:-//Plone.org//NONSGML plone.app.event//EN
X-WR-TIMEZONE:US/Pacific
BEGIN:VEVENT
SUMMARY:TAC MAC Alpine Climb - Gilbert Peak/Conrad Glacier
DTSTART;VALUE=DATE:20250703
DTEND;VALUE=DATE:20250704
DTSTAMP;VALUE=DATE-TIME:20260420T095647Z
UID:940345ca9b414720acb23c3418be6669
CATEGORIES:Youth
DESCRIPTION:Alpine climb for Tacoma MAC Students
LOCATION:Gilbert Peak/Conrad Glacier
URL:https://www.mountaineers.org/locations-lodges/tacoma-branch/committees
 /tacoma-youth-outreach-committee/course-templates/mountaineers-adventure-c
 lub-tacoma-tacoma/activities/tac-mac-alpine-climb-gilbert-peak-conrad-glac
 ier
END:VEVENT
END:VCALENDAR
