BEGIN:VCALENDAR
VERSION:2.0
PRODID:-//Plone.org//NONSGML plone.app.event//EN
X-WR-TIMEZONE:US/Pacific
BEGIN:VEVENT
SUMMARY:TAC MAC Alpine Climb - Forbidden Peak/West Ridge
DTSTART;VALUE=DATE:20260708
DTEND;VALUE=DATE:20260709
DTSTAMP;VALUE=DATE-TIME:20260420T095718Z
UID:da6b990c920249048f567ab00e146bc2
CATEGORIES:Climbing
DESCRIPTION:This is an advanced climb that will only be open to a small gr
 oup. Sarah will handle registration
LOCATION:Forbidden Peak/West Ridge
URL:https://www.mountaineers.org/locations-lodges/tacoma-branch/committees
 /tacoma-youth-outreach-committee/course-templates/mountaineers-adventure-c
 lub-tacoma-tacoma/activities/tac-mac-alpine-climb-forbidden-peak-west-ridg
 e
END:VEVENT
END:VCALENDAR
