BEGIN:VCALENDAR
VERSION:2.0
PRODID:-//Plone.org//NONSGML plone.app.event//EN
X-WR-TIMEZONE:US/Pacific
BEGIN:VEVENT
SUMMARY:TAC MAC Alpine Climb - Eldorado Peak/Inspiration Glacier
DTSTART;VALUE=DATE:20250503
DTEND;VALUE=DATE:20250504
DTSTAMP;VALUE=DATE-TIME:20260420T095648Z
UID:66a6bdd1d1c54b15bc69d6005a7a850c
CATEGORIES:Climbing
DESCRIPTION:Alpine climb for Tacoma MAC
LOCATION:Eldorado Peak/Inspiration Glacier
URL:https://www.mountaineers.org/locations-lodges/tacoma-branch/committees
 /tacoma-youth-outreach-committee/course-templates/mountaineers-adventure-c
 lub-tacoma-tacoma/activities/tac-mac-alpine-climb-eldorado-peak-inspiratio
 n-glacier
END:VEVENT
END:VCALENDAR
