BEGIN:VCALENDAR
VERSION:2.0
PRODID:-//Plone.org//NONSGML plone.app.event//EN
X-WR-TIMEZONE:US/Pacific
BEGIN:VEVENT
SUMMARY:TAC MAC Alpine Climb - Bonanza Peak/Mary Green Glacier
DTSTART;VALUE=DATE:20240621
DTEND;VALUE=DATE:20240622
DTSTAMP;VALUE=DATE-TIME:20260420T100001Z
UID:d1f4aa331efd4fbc9b66883f9870ac76
CATEGORIES:Climbing
DESCRIPTION:Karter's leadership climb. This will be a complex and strenuou
 s climb\, and will only be open to MAC members who have significant experi
 ence in the alpine
LOCATION:Bonanza Peak/Mary Green Glacier
URL:https://www.mountaineers.org/locations-lodges/tacoma-branch/committees
 /tacoma-youth-outreach-committee/course-templates/mountaineers-adventure-c
 lub-tacoma-tacoma/activities/tac-mac-alpine-climb-bonanza-peak-mary-green-
 glacier
END:VEVENT
END:VCALENDAR
