BEGIN:VCALENDAR
VERSION:2.0
PRODID:-//Plone.org//NONSGML plone.app.event//EN
X-WR-TIMEZONE:US/Pacific
BEGIN:VEVENT
SUMMARY:Surf Zone & Beyond- Surf Clinic - Makah Bay
DTSTART;VALUE=DATE:20200803
DTEND;VALUE=DATE:20200804
DTSTAMP;VALUE=DATE-TIME:20260425T144407Z
UID:47b0203dcc9242ce9eb6020b4861da83
CATEGORIES:Sea Kayaking
DESCRIPTION:Playday in the surf zone.  Trip leaders will provide some inst
 ruction\, if desired\, but you should have had an intro to surf clinic alr
 eady.  Short or long boats allowed.
LOCATION:Makah Bay
URL:https://www.mountaineers.org/locations-lodges/tacoma-branch/committees
 /tacoma-sea-kayaking-committee/seminars-clinics/surf-zone-beyond-surf-clin
 ic-makah-bay
END:VEVENT
END:VCALENDAR
