BEGIN:VCALENDAR
VERSION:2.0
PRODID:-//Plone.org//NONSGML plone.app.event//EN
X-WR-TIMEZONE:US/Pacific
BEGIN:VEVENT
SUMMARY:Surf Zone & Beyond- Surf Clinic - Hobuck Beach
DTSTART;VALUE=DATE:20200731
DTEND;VALUE=DATE:20200801
DTSTAMP;VALUE=DATE-TIME:20260425T125918Z
UID:0097d55d39fb4315a406cae77959972f
CATEGORIES:Sea Kayaking
DESCRIPTION:Surf Clinic! Gaining Control\, Competence\, and Confidence in 
 the Surf Zone
LOCATION:Hobuck Beach
URL:https://www.mountaineers.org/locations-lodges/tacoma-branch/committees
 /tacoma-sea-kayaking-committee/seminars-clinics/surf-zone-beyond-surf-clin
 ic-hobuck-beach
END:VEVENT
END:VCALENDAR
