BEGIN:VCALENDAR
VERSION:2.0
PRODID:-//Plone.org//NONSGML plone.app.event//EN
X-WR-TIMEZONE:US/Pacific
BEGIN:VEVENT
SUMMARY:Rock Gardening Clinic - Hobuck Beach
DTSTART;VALUE=DATE:20200621
DTEND;VALUE=DATE:20200622
DTSTAMP;VALUE=DATE-TIME:20260425T125918Z
UID:1cf4e3f0af3d4b348b9fffb9e9513250
CATEGORIES:Sea Kayaking
DESCRIPTION:Rock Garden Safety and Rescue
LOCATION:Hobuck Beach
URL:https://www.mountaineers.org/locations-lodges/tacoma-branch/committees
 /tacoma-sea-kayaking-committee/seminars-clinics/rock-gardening-clinic-hobu
 ck-beach-1
END:VEVENT
END:VCALENDAR
