BEGIN:VCALENDAR
VERSION:2.0
PRODID:-//Plone.org//NONSGML plone.app.event//EN
X-WR-TIMEZONE:US/Pacific
BEGIN:VEVENT
SUMMARY:Basic Crewing/Sailing Course  - Tacoma\, Training Sail #3 - Peace\
 , Tyee Marina
DTSTART;VALUE=DATE:20260509
DTEND;VALUE=DATE:20260510
DTSTAMP;VALUE=DATE-TIME:20260419T155619Z
UID:d20611f3c64b4d7e9b9353c4aacd5e44
CATEGORIES:Sailing
DESCRIPTION:Third training sail for students of Tacoma's Basic Crewing/Sai
 ling Course.
LOCATION:Peace\, Tyee Marina
URL:https://www.mountaineers.org/locations-lodges/tacoma-branch/committees
 /tacoma-sailing-committee/course-templates/basic-crewing-sailing-course/ac
 tivities/basic-crewing-sailing-course-tacoma-training-sail-3-peace-tyee-ma
 rina-3
END:VEVENT
END:VCALENDAR
