BEGIN:VCALENDAR
VERSION:2.0
PRODID:-//Plone.org//NONSGML plone.app.event//EN
X-WR-TIMEZONE:US/Pacific
BEGIN:VEVENT
SUMMARY:Basic Crewing/Sailing Course  - Tacoma\, Training Sail #2 - Peace\
 , Tyee Marina
DTSTART;VALUE=DATE:20260428
DTEND;VALUE=DATE:20260429
DTSTAMP;VALUE=DATE-TIME:20260422T164354Z
UID:79b6c7585d494955851853e545d69845
CATEGORIES:Sailing
DESCRIPTION:Second training sail for students of Tacoma's Basic Crewing/Sa
 iling Course.
LOCATION:Peace\, Tyee Marina
URL:https://www.mountaineers.org/locations-lodges/tacoma-branch/committees
 /tacoma-sailing-committee/course-templates/basic-crewing-sailing-course/ac
 tivities/basic-crewing-sailing-course-tacoma-training-sail-2-peace-tyee-ma
 rina-1
END:VEVENT
END:VCALENDAR
