BEGIN:VCALENDAR
VERSION:2.0
PRODID:-//Plone.org//NONSGML plone.app.event//EN
X-WR-TIMEZONE:US/Pacific
BEGIN:VEVENT
SUMMARY:Fitness for Hiking and Backpacking - Online Classroom
DTSTART;VALUE=DATE:20210318
DTEND;VALUE=DATE:20210319
DTSTAMP;VALUE=DATE-TIME:20260420T095600Z
UID:86c6f6a706b145c6b2b50b1d7d349a25
CATEGORIES:Day Hiking,Backpacking
DESCRIPTION:A Zoom session to help you get in shape at home for Hiking & B
 ackpacking! This is an overview of basic fitness resources that are availa
 ble to help you get ready for the hiking and backpacking season.  Adding s
 trength training to your fitness regime will help keep you moving down the
  trails with confidence.
LOCATION:Online Classroom
URL:https://www.mountaineers.org/locations-lodges/tacoma-branch/committees
 /tacoma-hiking-backpacking-committee/seminars-clinics/fitness-for-hiking-a
 nd-backpacking-online-classroom-1
END:VEVENT
END:VCALENDAR
