BEGIN:VCALENDAR
VERSION:2.0
PRODID:-//Plone.org//NONSGML plone.app.event//EN
X-WR-TIMEZONE:US/Pacific
BEGIN:VEVENT
SUMMARY:Fall Color Hikes: A Talk with Author\, Photographer\, and Backpack
 er Tami Asars - Mountaineers Tacoma Program Center
DTSTART;VALUE=DATE:20230926
DTEND;VALUE=DATE:20230927
DTSTAMP;VALUE=DATE-TIME:20260421T050741Z
UID:2d32dacbc5eb48b9bf7be2ea03a6c59a
CATEGORIES:Backpacking,Day Hiking,Photography
DESCRIPTION:Tami Asars visits The Mountaineers to talk about her book 'Fal
 l Color Hikes: Washington\,' her adventures along the Appalachian Trail\, 
 and destinations in the PNW and beyond.
LOCATION:Mountaineers Tacoma Program Center
URL:https://www.mountaineers.org/locations-lodges/tacoma-branch/committees
 /tacoma-hiking-backpacking-committee/seminars-clinics/fall-color-hikes-a-t
 alk-with-author-photographer-and-backpacker-tami-asars-mountaineers-tacoma
 -program-center
END:VEVENT
END:VCALENDAR
