BEGIN:VCALENDAR
VERSION:2.0
PRODID:-//Plone.org//NONSGML plone.app.event//EN
X-WR-TIMEZONE:US/Pacific
BEGIN:VEVENT
SUMMARY:Lookouts and High Places July Hikes - Thorp Mountain Lookout
DTSTART;VALUE=DATE:20260712
DTEND;VALUE=DATE:20260713
DTSTAMP;VALUE=DATE-TIME:20260424T154052Z
UID:22374dcf17c842ee94eeb29cd1a4779e
CATEGORIES:Day Hiking
DESCRIPTION:**Trip initially open to Lookouts and High Places Day Hiking S
 eries students. Trip will open for registration to all Mountaineers 7 to 1
 0 days prior to the hike date.**
LOCATION:Thorp Mountain Lookout
URL:https://www.mountaineers.org/locations-lodges/tacoma-branch/committees
 /tacoma-hiking-backpacking-committee/course-templates/lookouts-and-high-pl
 aces-tacoma/activities/lookouts-and-high-places-july-hikes-thorp-mountain-
 lookout
END:VEVENT
END:VCALENDAR
