BEGIN:VCALENDAR
VERSION:2.0
PRODID:-//Plone.org//NONSGML plone.app.event//EN
X-WR-TIMEZONE:US/Pacific
BEGIN:VEVENT
SUMMARY:Lookouts and High Places July Hikes - Snoquera Palisades
DTSTART;VALUE=DATE:20260709
DTEND;VALUE=DATE:20260710
DTSTAMP;VALUE=DATE-TIME:20260424T153826Z
UID:49cea874d8a0448abfa26bbb12690684
CATEGORIES:Day Hiking
DESCRIPTION:**Trip initially open to Lookouts and High Places Day Hiking S
 eries students. Trip will open for registration to all Mountaineers 7 to 1
 0 days prior to the hike date.**
LOCATION:Snoquera Palisades
URL:https://www.mountaineers.org/locations-lodges/tacoma-branch/committees
 /tacoma-hiking-backpacking-committee/course-templates/lookouts-and-high-pl
 aces-tacoma/activities/lookouts-and-high-places-july-hikes-snoquera-palisa
 des
END:VEVENT
END:VCALENDAR
