BEGIN:VCALENDAR
VERSION:2.0
PRODID:-//Plone.org//NONSGML plone.app.event//EN
X-WR-TIMEZONE:US/Pacific
BEGIN:VEVENT
SUMMARY:Lookouts and High Places July Hikes - Kelly Butte
DTSTART;VALUE=DATE:20260724
DTEND;VALUE=DATE:20260725
DTSTAMP;VALUE=DATE-TIME:20260424T154349Z
UID:a343f0e5261e41f19ea739dd4d407e34
CATEGORIES:Day Hiking
DESCRIPTION:**Trip initially open to Lookouts and High Places Day Hiking S
 eries students. Trip will open for registration to all Mountaineers 7 to 1
 0 days prior to the hike date.**
LOCATION:Kelly Butte
URL:https://www.mountaineers.org/locations-lodges/tacoma-branch/committees
 /tacoma-hiking-backpacking-committee/course-templates/lookouts-and-high-pl
 aces-tacoma/activities/lookouts-and-high-places-july-hikes-kelly-butte
END:VEVENT
END:VCALENDAR
