BEGIN:VCALENDAR
VERSION:2.0
PRODID:-//Plone.org//NONSGML plone.app.event//EN
X-WR-TIMEZONE:US/Pacific
BEGIN:VEVENT
SUMMARY:Lookouts and High Places July Hikes - Crystal Peak (Mount Rainier)
DTSTART;VALUE=DATE:20260708
DTEND;VALUE=DATE:20260709
DTSTAMP;VALUE=DATE-TIME:20260424T154139Z
UID:689143fe7b9a4ac999c40e4270f3a1f3
CATEGORIES:Day Hiking
DESCRIPTION:**Trip initially open to Lookouts and High Places Day Hiking S
 eries students. Trip will open for registration to all Mountaineers 7 to 1
 0 days prior to the hike date.**
LOCATION:Crystal Peak (Mount Rainier)
URL:https://www.mountaineers.org/locations-lodges/tacoma-branch/committees
 /tacoma-hiking-backpacking-committee/course-templates/lookouts-and-high-pl
 aces-tacoma/activities/lookouts-and-high-places-july-hikes-crystal-peak-mo
 unt-rainier
END:VEVENT
END:VCALENDAR
