BEGIN:VCALENDAR
VERSION:2.0
PRODID:-//Plone.org//NONSGML plone.app.event//EN
X-WR-TIMEZONE:US/Pacific
BEGIN:VEVENT
SUMMARY:Lookouts and High Places Day Hiking Series - Classroom Session - O
 nline Classroom
DTSTART;VALUE=DATE:20260603
DTEND;VALUE=DATE:20260604
DTSTAMP;VALUE=DATE-TIME:20260424T114243Z
UID:485a553657854f36a96554495e35c372
CATEGORIES:Day Hiking
DESCRIPTION:An evening online zoom lecture to introduce students to the da
 y hiking course\, its graduation requirements\, and its leaders.
LOCATION:Online Classroom
URL:https://www.mountaineers.org/locations-lodges/tacoma-branch/committees
 /tacoma-hiking-backpacking-committee/course-templates/lookouts-and-high-pl
 aces-tacoma/activities/lookouts-and-high-places-day-hiking-series-classroo
 m-session-online-classroom-2
END:VEVENT
END:VCALENDAR
